Workbook
Name a_15528: Sheet1!#REF!
Name a_15529: Sheet1!#REF!
Name a_15544: Sheet1!#REF!
Name a_15571: Sheet1!#REF!
Name a_15600: Sheet1!#REF!
Name a_15626: Sheet1!#REF!
Name a_15640: Sheet1!#REF!
Name a_15655: Sheet1!#REF!
Name a_15675: Sheet1!#REF!
Name a_15694: Sheet1!#REF!
Name Машини_за_обработване_на_данни: Sheet1!#REF!
Name Машини_за_обработване_на_данни__изберете_от_падащото_меню: Sheet1!#REF!
Name Хардуер: Sheet1!#REF!

Sheet Acerno_Cache_XXXXX

Sheet Sheet1
B1: ПРИЛОЖЕНИЕ № 1 КЪМ ПРАВИЛАТА ЗА ПРЕДВАРИТЕЛНО СЪГЛАСУВАНЕ НА РАЗХОДИТЕ НА АДМИНИСТРАТИВНИТЕ ОРГАНИ В ОБЛАСТТА НА ЕЛЕКТРОННОТО УПРАВЛЕНИЕ И ЗА ИЗПОЛЗВАНИТЕ ОТ ТЯХ ИНФОРМАЦИОННИ И КОМУНИКАЦИОННИ ТЕХНОЛОГИИ В РАМКИТЕ НА БЮДЖЕТНИЯ ПРОЦЕС
B3: Проектобюджет за следващата година и тригодишна прогноза за средствата, необходими за финансиране на дейностите в областта на електронното управление и ИКТ
B4: на Агенция по заетостта Административен орган (АО)
E6: 2018 г. - Проектобюджет | I6: 2019 г. - Прогнози | M6: 2020 г. - Прогнози
B7: ВИДОВЕ РАЗХОДИ (в лева) | C7: Код ЕБК | D7: Код CPV | E7: Общо разходи | F7: Дейности, финанси-рани в рамките на бюджета на АО | G7: Дейности, финанси-рани по ЕСИФ | H7: Дейности, финанси-рани от др. източници | I7: Общо разходи | J7: Дейности, финанси-рани в рамките на бюджета на АО | K7: Дейности, финанси-рани по ЕСИФ | L7: Дейности, финанси-рани от др. източници | M7: Общо разходи | N7: Дейности, финанси-рани в рамките на бюджета на АО | O7: Дейности, финанси-рани по ЕСИФ | P7: Дейности, финанси-рани от др. източници
E8: 1 | F8: 1.1 | G8: 1.2 | H8: 1.3 | I8: 2 | J8: 2.1 | K8: 2.2 | L8: 2.3 | M8: 3 | N8: 3.1 | O8: 3.2 | P8: 3.3
B9: I. ПРИДОБИВАНЕ НА КОМПЮТРИ И ХАРДУЕР
A10: 1. | B10: Компютърни и офис машини, оборудване и принадлежности, с изключение на мебели и софтуерни пакети | D10: 30000000
B11: Машини за обработване на данни | D11: 30210000
B12: Изберете от тук (падащо меню) | C12: Изберете от тук | E12: =SUM(F12,G12,H12) -> 0 | I12: =SUM(J12,K12,L12) -> 0 | M12: =SUM(N12,O12,P12) -> 0
B13: Оборудване на цифрова картография | D13: 30220000
B14: Изберете от тук (падащо меню) | C14: Изберете от тук | E14: =SUM(F14,G14,H14) -> 0 | I14: =SUM(J14,K14,L14) -> 0 | M14: =SUM(N14,O14,P14) -> 0
B15: Компютърно оборудване | D15: 30230000
B16: Изберете от тук (падащо меню) | C16: 52-01 | E16: 50000 | F16: 50000 | I16: =SUM(J16,K16,L16) -> 50000 | J16: 50000 | M16: =SUM(N16,O16,P16) -> 50000 | N16: 50000
B17: II. ПРИДОБИВАНЕ НА ПРОГРАМНИ ПРОДУКТИ И ЛИЦЕНЗИ ЗА ПРОГРАМНИ ПРОДУКТИ
A18: 2. | B18: Софтуерни пакети и информационни системи | D18: 48000000
A19: 2.1. | B19: Софтуерни пакети за индустрията:
B20: Софтуерни пакети за търговски обекти (POS) | C20: Изберете от тук | D20: 48110000-2 | E20: =SUM(F20,G20,H20) -> 0 | I20: =SUM(J20,K20,L20) -> 0 | M20: =SUM(N20,O20,P20) -> 0
B21: Софтуерни пакети за управление на полети | D21: 48120000-5
B22: Изберете от тук (падащо меню) | C22: Изберете от тук | E22: =SUM(F22,G22,H22) -> 0 | I22: =SUM(J22,K22,L22) -> 0 | M22: =SUM(N22,O22,P22) -> 0
B23: Софтуерни пакети за наземна поддръжка и с тестове за авиацията | D23: 48130000-8
B24: Изберете от тук (падащо меню) | C24: Изберете от тук | E24: =SUM(F24,G24,H24) -> 0 | I24: =SUM(J24,K24,L24) -> 0 | M24: =SUM(N24,O24,P24) -> 0
B25: Софтуерни пакети за контрол на железопътния трафик | C25: Изберете от тук | D25: 48140000-1 | E25: =SUM(F25,G25,H25) -> 0 | I25: =SUM(J25,K25,L25) -> 0 | M25: =SUM(N25,O25,P25) -> 0
B26: Софтуерни пакети за управление на технологични процеси | D26: 48150000-4
B27: Изберете от тук (падащо меню) | C27: Изберете от тук | E27: =SUM(F27,G27,H27) -> 0 | I27: =SUM(J27,K27,L27) -> 0 | M27: =SUM(N27,O27,P27) -> 0
B28: Софтуерни пакети за библиотеки | D28: 48160000-7
B29: Изберете от тук (падащо меню) | C29: Изберете от тук | E29: =SUM(F29,G29,H29) -> 0 | I29: =SUM(J29,K29,L29) -> 0 | M29: =SUM(N29,O29,P29) -> 0
B30: Софтуерни пакети за съответствие | C30: Изберете от тук | D30: 48170000-0 | E30: =SUM(F30,G30,H30) -> 0 | I30: =SUM(J30,K30,L30) -> 0 | M30: =SUM(N30,O30,P30) -> 0
B31: Медицински софтуерни пакети | C31: Изберете от тук | D31: 48180000-3 | E31: =SUM(F31,G31,H31) -> 0 | I31: =SUM(J31,K31,L31) -> 0 | M31: =SUM(N31,O31,P31) -> 0
B32: Образователни софтуерни пакети | C32: Изберете от тук | D32: 48190000-6 | E32: =SUM(F32,G32,H32) -> 0 | I32: =SUM(J32,K32,L32) -> 0 | M32: =SUM(N32,O32,P32) -> 0
A33: 2.2. | B33: Софтуерни пакети за работа в мрежи интернет и интранет:
B34: Софтуерни пакети за работа в мрежа | D34: 48210000-3
B35: Изберете от тук (падащо меню) | C35: Изберете от тук | E35: =SUM(F35,G35,H35) -> 0 | I35: =SUM(J35,K35,L35) -> 0 | M35: =SUM(N35,O35,P35) -> 0
B36: Софтуерни пакети за интернет и интранет | D36: 48220000-6
B37: Изберете от тук (падащо меню) | C37: Изберете от тук | E37: =SUM(F37,G37,H37) -> 0 | I37: =SUM(J37,K37,L37) -> 0 | M37: =SUM(N37,O37,P37) -> 0
A38: 2.3. | B38: Софтуерни пакети за създаване на документи, чертане, обработка на изображения, планиране и повишаване на ефективността:
B39: Софтуерни пакети за създаване на документи | D39: 48310000-4
B40: Изберете от тук (падащо меню) | C40: Изберете от тук | E40: =SUM(F40,G40,H40) -> 0 | I40: =SUM(J40,K40,L40) -> 0 | M40: =SUM(N40,O40,P40) -> 0
B41: Софтуерни пакети за чертане и обработка на изображения | D41: 48320000-7
B42: Изберете от тук (падащо меню) | C42: Изберете от тук | E42: =SUM(F42,G42,H42) -> 0 | I42: =SUM(J42,K42,L42) -> 0 | M42: =SUM(N42,O42,P42) -> 0
...

Sheet Sheet2
D1: Изберете от тук (падащо меню)
A2: 30211000-1 | B2: Централен процесорен блок за обработка на информация | D2: =CONCATENATE(A2," ",B2) -> 30211000-1 Централен процесорен блок за обработка на информация | H2: Изберете от тук
A3: 30212000-8 | B3: Хардуер за миникомпютри | D3: =CONCATENATE(A3," ",B3) -> 30212000-8 Хардуер за миникомпютри | G3: Да | H3: 52-01
A4: 30213000-5 | B4: Персонални компютри | D4: =CONCATENATE(A4," ",B4) -> 30213000-5 Персонални компютри | G4: Не | H4: 53-01
A5: 30214000-2 | B5: Компютърни работни станции | D5: =CONCATENATE(A5," ",B5) -> 30214000-2 Компютърни работни станции | F5: =LEFT(D5,10) -> 30214000-2 | H5: 10-00
A6: 30215000-9 | B6: Хардуер за микрокомпютри | D6: =CONCATENATE(A6," ",B6) -> 30215000-9 Хардуер за микрокомпютри | F6: =LEFT(D6,10) -> 30215000-9
A7: 30216000-6 | B7: Магнитни или оптични четящи устройства | D7: =CONCATENATE(A7," ",B7) -> 30216000-6 Магнитни или оптични четящи устройства | G7: покупка
D9: Изберете от тук (падащо меню)
A10: 30221000-4 | B10: Цифрови кадастрални планове | D10: =CONCATENATE(A10," ",B10) -> 30221000-4 Цифрови кадастрални планове | G10: наем
A11: 30221000-4 | B11: Цифрови кадастрални планове | D11: =CONCATENATE(A11," ",B11) -> 30221000-4 Цифрови кадастрални планове
D13: Изберете от тук (падащо меню)
A14: 30231000-7 | B14: Компютърни екрани и конзоли | D14: =CONCATENATE(A14," ",B14) -> 30231000-7 Компютърни екрани и конзоли
A15: 30232000-4 | B15: Периферни устройства | D15: =CONCATENATE(A15," ",B15) -> 30232000-4 Периферни устройства
A16: 30233000-1 | B16: Записващи и четящи устройства | D16: =CONCATENATE(A16," ",B16) -> 30233000-1 Записващи и четящи устройства
A17: 30234000-8 | B17: Носители за съхраняване на информация | D17: =CONCATENATE(A17," ",B17) -> 30234000-8 Носители за съхраняване на информация
A18: 30236000-2 | B18: Различни видове компютърен хардуер | D18: =CONCATENATE(A18," ",B18) -> 30236000-2 Различни видове компютърен хардуер
A19: 30237000-9 | B19: Части, аксесоари и принадлежности за компютри | D19: =CONCATENATE(A19," ",B19) -> 30237000-9 Части, аксесоари и принадлежности за компютри
A20: 30238000-6 | B20: Оборудване за автоматизиране на работа на библиотека | D20: =CONCATENATE(A20," ",B20) -> 30238000-6 Оборудване за автоматизиране на работа на библиотека
A22: 48000000-8 | B22: Софтуерни пакети и информационни системи | D22: =CONCATENATE(A22," ",B22) -> 48000000-8 Софтуерни пакети и информационни системи
A23: 48100000-9 | B23: Софтуерни пакети за индустрията | D23: =CONCATENATE(A23," ",B23) -> 48100000-9 Софтуерни пакети за индустрията
A24: 48110000-2 | B24: Софтуерни пакети за търговски обекти (POS) | D24: =CONCATENATE(A24," ",B24) -> 48110000-2 Софтуерни пакети за търговски обекти (POS)
A25: 48120000-5 | B25: Софтуерни пакети за управление на полети | D25: =CONCATENATE(A25," ",B25) -> 48120000-5 Софтуерни пакети за управление на полети
D26: Изберете от тук (падащо меню)
A27: 48121000-2 | B27: Софтуерни пакети за контрол на въздушния трафик | D27: =CONCATENATE(A27," ",B27) -> 48121000-2 Софтуерни пакети за контрол на въздушния трафик
A28: 48130000-8 | B28: Софтуерни пакети за наземна поддръжка и с тестове за авиацията | D28: =CONCATENATE(A28," ",B28) -> 48130000-8 Софтуерни пакети за наземна поддръжка и с тестове за авиацията
D30: Изберете от тук (падащо меню)
A31: 48131000-5 | B31: Софтуерни пакети за наземна поддръжка за авиацията | D31: =CONCATENATE(A31," ",B31) -> 48131000-5 Софтуерни пакети за наземна поддръжка за авиацията
A32: 48132000-2 | B32: Софтуерни пакети с тестове за авиацията | D32: =CONCATENATE(A32," ",B32) -> 48132000-2 Софтуерни пакети с тестове за авиацията
A33: 48140000-1 | B33: Софтуерни пакети за контрол на железопътния трафик | D33: =CONCATENATE(A33," ",B33) -> 48140000-1 Софтуерни пакети за контрол на железопътния трафик
A34: 48150000-4 | B34: Софтуерни пакети за управление на технологични процеси | D34: =CONCATENATE(A34," ",B34) -> 48150000-4 Софтуерни пакети за управление на технологични процеси
D36: Изберете от тук (падащо меню)
A37: 48151000-1 | B37: Система за компютърен контрол | D37: =CONCATENATE(A37," ",B37) -> 48151000-1 Система за компютърен контрол
A38: 48160000-7 | B38: Софтуерни пакети за библиотеки | D38: =CONCATENATE(A38," ",B38) -> 48160000-7 Софтуерни пакети за библиотеки
D40: Изберете от тук (падащо меню)
A41: 48161000-4 | B41: Система за управление на библиотеки | D41: =CONCATENATE(A41," ",B41) -> 48161000-4 Система за управление на библиотеки
A42: 48170000-0 | B42: Софтуерни пакети за съответствие | D42: =CONCATENATE(A42," ",B42) -> 48170000-0 Софтуерни пакети за съответствие
A43: 48180000-3 | B43: Медицински софтуерни пакети | D43: =CONCATENATE(A43," ",B43) -> 48180000-3 Медицински софтуерни пакети
A44: 48190000-6 | B44: Образователни софтуерни пакети | D44: =CONCATENATE(A44," ",B44) -> 48190000-6 Образователни софтуерни пакети
A45: 48200000-0 | B45: Софтуерни пакети за работа в мрежи интернет и интранет | D45: =CONCATENATE(A45," ",B45) -> 48200000-0 Софтуерни пакети за работа в мрежи интернет и интранет
A46: 48210000-3 | B46: Софтуерни пакети за работа в мрежа | D46: =CONCATENATE(A46," ",B46) -> 48210000-3 Софтуерни пакети за работа в мрежа
...

Sheet Sheet3
A2: Националната стратегия за е-управление | B2: Да | D2: Разходите са предвидени за включване към Бюджетна прогноза | L2: 2018
A3: Секторната стратегия за е-управление | B3: Не | D3: Бюджетен ред/код, съгласно МФ: | E3: Общо | F3: дейности, финансирани от ЦБ | G3: дейности, финансирани по ЕСИФ | H3: дейности, финансирани от др. източници | I3: контролна отметка ДАЕУ | K3: Извършен текущ контрол | L3: Извършен последващ контрол
A4: Стратегическия план за развитие на организацията индивидуална пътна карта | B4: Не
A5: Проекта включва изискване за сертификация на изпълнителите
A6: Проекта включва изискване системите и решенията да отговарят на утвърдени международни стандарти | E6: =SUM(O11:O140) -> 60030
A8: Разходите са планирани по проект № : ( № ) наименование : (наименование) | B8: финансови параметри на проектните разходи, съгласно подадения проект
B9: Компоненти включени в проекта | C9: Вид на разхода (наем или покупка) | D9: Единична цена без ДДС /лева/ | E9: Количество | F9: Обща цена без ДДС /лева/ | G9: Общ размер на ДДС /лева/ | H9: Обща цена с ДДС /лева/ | I9: Разходите по проекта включват такива за гаранционна и следгаранционна поддръжка | K9: Единична цена без ДДС /лева/ | L9: Количество | M9: Обща цена без ДДС /лева/ | N9: Общ размер на ДДС /лева/ | O9: Обща цена с ДДС /лева/ | P9: Разходите по проекта включват такива за гаранционна и следгаранционна поддръжка
I10: да/не/непр. | J10: Цена за гаранционна и следгаранционна поддръжка | P10: да/не/непр. | Q10: Цена за гаранционна и следгаранционна поддръжка
A11: I. ПРИДОБИВАНЕ НА КОМПЮТРИ И ХАРДУЕР | F11: =IF(E11="","",D11*E11) | G11: =IF(F11="","",F11*20%) | H11: =IF(G11="","",F11+G11)
A12: =IF(Sheet1!B10="","",Sheet1!B10) -> Компютърни и офис машини, оборудване и принадлежности, с изключение на мебели и софтуерни пакети | F12: =IF(E12="","",D12*E12) | G12: =IF(F12="","",F12*20%) | H12: =IF(G12="","",F12+G12)
A13: =IF(Sheet1!B11="","",Sheet1!B11) -> Машини за обработване на данни | F13: =IF(E13="","",D13*E13) | G13: =IF(F13="","",F13*20%) | H13: =IF(G13="","",F13+G13)
A14: =IF(Sheet1!B12="","",Sheet1!B12) -> Изберете от тук (падащо меню) | B14: да | C14: покупка | D14: 9999 | E14: 5 | F14: =IF(E14="","",D14*E14) -> 49995 | G14: =IF(F14="","",F14*20%) -> 9999 | H14: =IF(G14="","",F14+G14) -> 59994 | I14: da | J14: 3455 | K14: =IF(D14="","",D14) -> 9999 | L14: =IF(E14="","",E14) -> 5 | M14: =IF(L14="","",K14*L14) -> 49995 | N14: =IF(M14="","",M14*20%) -> 9999 | O14: =IF(N14="","",M14+N14) -> 59994 | P14: =IF(I14="","",I14) -> da | Q14: =IF(J14="","",J14) -> 3455
A15: =IF(Sheet1!B13="","",Sheet1!B13) -> Оборудване на цифрова картография | F15: =IF(E15="","",D15*E15) | G15: =IF(F15="","",F15*20%) | H15: =IF(G15="","",F15+G15) | K15: =IF(D15="","",D15) | L15: =IF(E15="","",E15) | M15: =IF(L15="","",K15*L15) | N15: =IF(M15="","",M15*20%) | O15: =IF(N15="","",M15+N15) | P15: =IF(I15="","",I15) | Q15: =IF(J15="","",J15)
A16: =IF(Sheet1!B14="","",Sheet1!B14) -> Изберете от тук (падащо меню) | F16: =IF(E16="","",D16*E16) | G16: =IF(F16="","",F16*20%) | H16: =IF(G16="","",F16+G16) | K16: =IF(D16="","",D16) | L16: =IF(E16="","",E16) | M16: =IF(L16="","",K16*L16) | N16: =IF(M16="","",M16*20%) | O16: =IF(N16="","",M16+N16) | P16: =IF(I16="","",I16) | Q16: =IF(J16="","",J16)
A17: =IF(Sheet1!B15="","",Sheet1!B15) -> Компютърно оборудване | F17: =IF(E17="","",D17*E17) | G17: =IF(F17="","",F17*20%) | H17: =IF(G17="","",F17+G17) | K17: =IF(D17="","",D17) | L17: =IF(E17="","",E17) | M17: =IF(L17="","",K17*L17) | N17: =IF(M17="","",M17*20%) | O17: =IF(N17="","",M17+N17) | P17: =IF(I17="","",I17) | Q17: =IF(J17="","",J17)
A18: =IF(Sheet1!B16="","",Sheet1!B16) -> Изберете от тук (падащо меню) | F18: =IF(E18="","",D18*E18) | G18: =IF(F18="","",F18*20%) | H18: =IF(G18="","",F18+G18) | K18: =IF(D18="","",D18) | L18: =IF(E18="","",E18) | M18: =IF(L18="","",K18*L18) | N18: =IF(M18="","",M18*20%) | O18: =IF(N18="","",M18+N18) | P18: =IF(I18="","",I18) | Q18: =IF(J18="","",J18)
A19: =IF(Sheet1!B17="","",Sheet1!B17) -> II. ПРИДОБИВАНЕ НА ПРОГРАМНИ ПРОДУКТИ И ЛИЦЕНЗИ ЗА ПРОГРАМНИ ПРОДУКТИ | F19: =IF(E19="","",D19*E19) | G19: =IF(F19="","",F19*20%) | H19: =IF(G19="","",F19+G19) | K19: =IF(D19="","",D19) | L19: =IF(E19="","",E19) | M19: =IF(L19="","",K19*L19) | N19: =IF(M19="","",M19*20%) | O19: =IF(N19="","",M19+N19) | P19: =IF(I19="","",I19) | Q19: =IF(J19="","",J19)
A20: =IF(Sheet1!B18="","",Sheet1!B18) -> Софтуерни пакети и информационни системи | F20: =IF(E20="","",D20*E20) | G20: =IF(F20="","",F20*20%) | H20: =IF(G20="","",F20+G20) | K20: =IF(D20="","",D20) | L20: =IF(E20="","",E20) | M20: =IF(L20="","",K20*L20) | N20: =IF(M20="","",M20*20%) | O20: =IF(N20="","",M20+N20) | P20: =IF(I20="","",I20) | Q20: =IF(J20="","",J20)
A21: =IF(Sheet1!B19="","",Sheet1!B19) -> Софтуерни пакети за индустрията: | B21: da | C21: наем | D21: 30 | E21: 1 | F21: =IF(E21="","",D21*E21) -> 30 | G21: =IF(F21="","",F21*20%) -> 6 | H21: =IF(G21="","",F21+G21) -> 36 | I21: da | J21: 50 | K21: =IF(D21="","",D21) -> 30 | L21: =IF(E21="","",E21) -> 1 | M21: =IF(L21="","",K21*L21) -> 30 | N21: =IF(M21="","",M21*20%) -> 6 | O21: =IF(N21="","",M21+N21) -> 36 | P21: =IF(I21="","",I21) -> da | Q21: =IF(J21="","",J21) -> 50
A22: =IF(Sheet1!B20="","",Sheet1!B20) -> Софтуерни пакети за търговски обекти (POS) | F22: =IF(E22="","",D22*E22) | G22: =IF(F22="","",F22*20%) | H22: =IF(G22="","",F22+G22) | K22: =IF(D22="","",D22) | L22: =IF(E22="","",E22) | M22: =IF(L22="","",K22*L22) | N22: =IF(M22="","",M22*20%) | O22: =IF(N22="","",M22+N22) | P22: =IF(I22="","",I22) | Q22: =IF(J22="","",J22)
A23: =IF(Sheet1!B21="","",Sheet1!B21) -> Софтуерни пакети за управление на полети | F23: =IF(E23="","",D23*E23) | G23: =IF(F23="","",F23*20%) | H23: =IF(G23="","",F23+G23) | K23: =IF(D23="","",D23) | L23: =IF(E23="","",E23) | M23: =IF(L23="","",K23*L23) | N23: =IF(M23="","",M23*20%) | O23: =IF(N23="","",M23+N23) | P23: =IF(I23="","",I23) | Q23: =IF(J23="","",J23)
A24: =IF(Sheet1!B22="","",Sheet1!B22) -> Изберете от тук (падащо меню) | F24: =IF(E24="","",D24*E24) | G24: =IF(F24="","",F24*20%) | H24: =IF(G24="","",F24+G24) | K24: =IF(D24="","",D24) | L24: =IF(E24="","",E24) | M24: =IF(L24="","",K24*L24) | N24: =IF(M24="","",M24*20%) | O24: =IF(N24="","",M24+N24) | P24: =IF(I24="","",I24) | Q24: =IF(J24="","",J24)
A25: =IF(Sheet1!B23="","",Sheet1!B23) -> Софтуерни пакети за наземна поддръжка и с тестове за авиацията | F25: =IF(E25="","",D25*E25) | G25: =IF(F25="","",F25*20%) | H25: =IF(G25="","",F25+G25) | K25: =IF(D25="","",D25) | L25: =IF(E25="","",E25) | M25: =IF(L25="","",K25*L25) | N25: =IF(M25="","",M25*20%) | O25: =IF(N25="","",M25+N25) | P25: =IF(I25="","",I25) | Q25: =IF(J25="","",J25)
A26: =IF(Sheet1!B24="","",Sheet1!B24) -> Изберете от тук (падащо меню) | F26: =IF(E26="","",D26*E26) | G26: =IF(F26="","",F26*20%) | H26: =IF(G26="","",F26+G26) | K26: =IF(D26="","",D26) | L26: =IF(E26="","",E26) | M26: =IF(L26="","",K26*L26) | N26: =IF(M26="","",M26*20%) | O26: =IF(N26="","",M26+N26) | P26: =IF(I26="","",I26) | Q26: =IF(J26="","",J26)
A27: =IF(Sheet1!B25="","",Sheet1!B25) -> Софтуерни пакети за контрол на железопътния трафик | F27: =IF(E27="","",D27*E27) | G27: =IF(F27="","",F27*20%) | H27: =IF(G27="","",F27+G27) | K27: =IF(D27="","",D27) | L27: =IF(E27="","",E27) | M27: =IF(L27="","",K27*L27) | N27: =IF(M27="","",M27*20%) | O27: =IF(N27="","",M27+N27) | P27: =IF(I27="","",I27) | Q27: =IF(J27="","",J27)
A28: =IF(Sheet1!B26="","",Sheet1!B26) -> Софтуерни пакети за управление на технологични процеси | F28: =IF(E28="","",D28*E28) | G28: =IF(F28="","",F28*20%) | H28: =IF(G28="","",F28+G28) | P28: =IF(I28="","",I28) | Q28: =IF(J28="","",J28)
A29: =IF(Sheet1!B27="","",Sheet1!B27) -> Изберете от тук (падащо меню) | F29: =IF(E29="","",D29*E29) | G29: =IF(F29="","",F29*20%) | H29: =IF(G29="","",F29+G29)
A30: =IF(Sheet1!B28="","",Sheet1!B28) -> Софтуерни пакети за библиотеки | F30: =IF(E30="","",D30*E30) | G30: =IF(F30="","",F30*20%) | H30: =IF(G30="","",F30+G30)
A31: =IF(Sheet1!B29="","",Sheet1!B29) -> Изберете от тук (падащо меню) | F31: =IF(E31="","",D31*E31) | G31: =IF(F31="","",F31*20%) | H31: =IF(G31="","",F31+G31)
A32: =IF(Sheet1!B30="","",Sheet1!B30) -> Софтуерни пакети за съответствие | F32: =IF(E32="","",D32*E32) | G32: =IF(F32="","",F32*20%) | H32: =IF(G32="","",F32+G32)
A33: =IF(Sheet1!B31="","",Sheet1!B31) -> Медицински софтуерни пакети | F33: =IF(E33="","",D33*E33) | G33: =IF(F33="","",F33*20%) | H33: =IF(G33="","",F33+G33)
A34: =IF(Sheet1!B32="","",Sheet1!B32) -> Образователни софтуерни пакети | F34: =IF(E34="","",D34*E34) | G34: =IF(F34="","",F34*20%) | H34: =IF(G34="","",F34+G34)
A35: =IF(Sheet1!B33="","",Sheet1!B33) -> Софтуерни пакети за работа в мрежи интернет и интранет: | F35: =IF(E35="","",D35*E35) | G35: =IF(F35="","",F35*20%) | H35: =IF(G35="","",F35+G35)
A36: =IF(Sheet1!B34="","",Sheet1!B34) -> Софтуерни пакети за работа в мрежа | F36: =IF(E36="","",D36*E36) | G36: =IF(F36="","",F36*20%) | H36: =IF(G36="","",F36+G36)
A37: =IF(Sheet1!B35="","",Sheet1!B35) -> Изберете от тук (падащо меню) | F37: =IF(E37="","",D37*E37) | G37: =IF(F37="","",F37*20%) | H37: =IF(G37="","",F37+G37)
A38: =IF(Sheet1!B36="","",Sheet1!B36) -> Софтуерни пакети за интернет и интранет | F38: =IF(E38="","",D38*E38) | G38: =IF(F38="","",F38*20%) | H38: =IF(G38="","",F38+G38)
A39: =IF(Sheet1!B37="","",Sheet1!B37) -> Изберете от тук (падащо меню) | F39: =IF(E39="","",D39*E39) | G39: =IF(F39="","",F39*20%) | H39: =IF(G39="","",F39+G39)
A40: =IF(Sheet1!B38="","",Sheet1!B38) -> Софтуерни пакети за създаване на документи, чертане, обработка на изображения, планиране и повишаване на ефективността: | F40: =IF(E40="","",D40*E40) | G40: =IF(F40="","",F40*20%) | H40: =IF(G40="","",F40+G40)
... A81: =IF(Sheet1!B79="","",Sheet1!B79) -> Софтуерни пакети за защита от вируси | F81: =IF(E81="","",D81*E81) | G81: =IF(F81="","",F81*20%) | H81: =IF(G81="","",F81+G81)
A82: =IF(Sheet1!#REF!="","",Sheet1!#REF!) -> #REF! | F82: =IF(E82="","",D82*E82) | G82: =IF(F82="","",F82*20%) | H82: =IF(G82="","",F82+G82)
...
